BEGIN:VCALENDAR
VERSION:2.0
PRODID:-//Aspire Research Group - ECPv6.15.20//NONSGML v1.0//EN
CALSCALE:GREGORIAN
METHOD:PUBLISH
X-ORIGINAL-URL:https://aspireresearchgroup.com
X-WR-CALDESC:Events for Aspire Research Group
REFRESH-INTERVAL;VALUE=DURATION:PT1H
X-Robots-Tag:noindex
X-PUBLISHED-TTL:PT1H
BEGIN:VTIMEZONE
TZID:America/New_York
BEGIN:DAYLIGHT
TZOFFSETFROM:-0500
TZOFFSETTO:-0400
TZNAME:EDT
DTSTART:20240310T070000
END:DAYLIGHT
BEGIN:STANDARD
TZOFFSETFROM:-0400
TZOFFSETTO:-0500
TZNAME:EST
DTSTART:20241103T060000
END:STANDARD
BEGIN:DAYLIGHT
TZOFFSETFROM:-0500
TZOFFSETTO:-0400
TZNAME:EDT
DTSTART:20250309T070000
END:DAYLIGHT
BEGIN:STANDARD
TZOFFSETFROM:-0400
TZOFFSETTO:-0500
TZNAME:EST
DTSTART:20251102T060000
END:STANDARD
BEGIN:DAYLIGHT
TZOFFSETFROM:-0500
TZOFFSETTO:-0400
TZNAME:EDT
DTSTART:20260308T070000
END:DAYLIGHT
BEGIN:STANDARD
TZOFFSETFROM:-0400
TZOFFSETTO:-0500
TZNAME:EST
DTSTART:20261101T060000
END:STANDARD
END:VTIMEZONE
BEGIN:VEVENT
DTSTART;TZID=America/New_York:20250710T120000
DTEND;TZID=America/New_York:20250710T130000
DTSTAMP:20260424T132751
CREATED:20241119T165816Z
LAST-MODIFIED:20241119T165816Z
UID:3567-1752148800-1752152400@aspireresearchgroup.com
SUMMARY:Group Coaching Call
DESCRIPTION:Monthly group coaching calls are open to Research Asset Members and those who have purchased and are currently enrolled in a course. \nCoaching calls are a safe\, judge-free space where you can talk freely\, ask questions\, and receive mentoring without being recorded. \nWe send reminder emails with the Zoom link access the day before and an hour before the call. However\, we encourage you to block out the times and dates on your calendar to ensure you can attend. \nAccess to these coaching calls does not apply to individual Workshop or Bundle purchases.
URL:https://aspireresearchgroup.com/event/group-coaching-call-17/
LOCATION:Zoom
CATEGORIES:Group Coaching Call,Prospect Research Institute
ATTACH;FMTTYPE=image/jpeg:https://aspireresearchgroup.com/wp-content/uploads/2024/11/Monthly-Coaching-Call.jpg
END:VEVENT
BEGIN:VEVENT
DTSTART;TZID=America/New_York:20250717T120000
DTEND;TZID=America/New_York:20250717T130000
DTSTAMP:20260424T132751
CREATED:20250318T161329Z
LAST-MODIFIED:20250318T162652Z
UID:3806-1752753600-1752757200@aspireresearchgroup.com
SUMMARY:Identifying Corporate Structures Workshop
DESCRIPTION:Find out what the incorporation structure is telling you. \nThe devil is in the details and sometimes that is exactly the scenario when it comes to incorporated entities. It’s easy to get confused by search results and it’s even easier to get frustrated when ownership is something you can only speculate about. \nThis online workshop will illuminate incorporation records\, tell the private company story\, and let you practice with quizzes. The live meeting will include a brief introduction to the topic and send you searching to find a nonprofit and a for-profit incorporation record with live polls and a large group discussion.
URL:https://aspireresearchgroup.com/event/identifying-corporate-structures-workshop/
LOCATION:Zoom
CATEGORIES:Prospect Research Institute,Workshop
ATTACH;FMTTYPE=image/png:https://aspireresearchgroup.com/wp-content/uploads/2025/03/25-07-Identifying-Corporate-Structures.png
END:VEVENT
END:VCALENDAR