BEGIN:VCALENDAR
VERSION:2.0
PRODID:-//Aspire Research Group - ECPv6.15.20//NONSGML v1.0//EN
CALSCALE:GREGORIAN
METHOD:PUBLISH
X-WR-CALNAME:Aspire Research Group
X-ORIGINAL-URL:https://aspireresearchgroup.com
X-WR-CALDESC:Events for Aspire Research Group
REFRESH-INTERVAL;VALUE=DURATION:PT1H
X-Robots-Tag:noindex
X-PUBLISHED-TTL:PT1H
BEGIN:VTIMEZONE
TZID:America/New_York
BEGIN:DAYLIGHT
TZOFFSETFROM:-0500
TZOFFSETTO:-0400
TZNAME:EDT
DTSTART:20240310T070000
END:DAYLIGHT
BEGIN:STANDARD
TZOFFSETFROM:-0400
TZOFFSETTO:-0500
TZNAME:EST
DTSTART:20241103T060000
END:STANDARD
BEGIN:DAYLIGHT
TZOFFSETFROM:-0500
TZOFFSETTO:-0400
TZNAME:EDT
DTSTART:20250309T070000
END:DAYLIGHT
BEGIN:STANDARD
TZOFFSETFROM:-0400
TZOFFSETTO:-0500
TZNAME:EST
DTSTART:20251102T060000
END:STANDARD
BEGIN:DAYLIGHT
TZOFFSETFROM:-0500
TZOFFSETTO:-0400
TZNAME:EDT
DTSTART:20260308T070000
END:DAYLIGHT
BEGIN:STANDARD
TZOFFSETFROM:-0400
TZOFFSETTO:-0500
TZNAME:EST
DTSTART:20261101T060000
END:STANDARD
END:VTIMEZONE
BEGIN:VEVENT
DTSTART;TZID=America/New_York:20250909T120000
DTEND;TZID=America/New_York:20250909T130000
DTSTAMP:20260421T094732
CREATED:20241119T165929Z
LAST-MODIFIED:20241119T165929Z
UID:3571-1757419200-1757422800@aspireresearchgroup.com
SUMMARY:Group Coaching Call
DESCRIPTION:Monthly group coaching calls are open to Research Asset Members and those who have purchased and are currently enrolled in a course. \nCoaching calls are a safe\, judge-free space where you can talk freely\, ask questions\, and receive mentoring without being recorded. \nWe send reminder emails with the Zoom link access the day before and an hour before the call. However\, we encourage you to block out the times and dates on your calendar to ensure you can attend. \nAccess to these coaching calls does not apply to individual Workshop or Bundle purchases.
URL:https://aspireresearchgroup.com/event/group-coaching-call-19/
LOCATION:Zoom
CATEGORIES:Group Coaching Call,Prospect Research Institute
ATTACH;FMTTYPE=image/jpeg:https://aspireresearchgroup.com/wp-content/uploads/2024/11/Monthly-Coaching-Call.jpg
END:VEVENT
BEGIN:VEVENT
DTSTART;TZID=America/New_York:20250916T120000
DTEND;TZID=America/New_York:20250916T130000
DTSTAMP:20260421T094732
CREATED:20250318T162940Z
LAST-MODIFIED:20250904T134410Z
UID:3815-1758024000-1758027600@aspireresearchgroup.com
SUMMARY:Types of Corporate Giving Workshop
DESCRIPTION:Evaluate various types of corporate giving for your prospect. \nExplore the complex world of corporate philanthropy and learn to identify the right giving opportunities for your organization. \nThis workshop covers key types of corporate giving and includes interactive quizzes to test your knowledge\, plus live discussions on research practices. Perfect for learning to research and present recommendations for corporate outreach strategy. \n 
URL:https://aspireresearchgroup.com/event/types-of-corporate-giving-workshop/
LOCATION:Zoom
CATEGORIES:Prospect Research Institute,Workshop
ATTACH;FMTTYPE=image/png:https://aspireresearchgroup.com/wp-content/uploads/2025/03/25-09-Types-of-Corporate-Giving.png
END:VEVENT
END:VCALENDAR