BEGIN:VCALENDAR
VERSION:2.0
PRODID:-//Aspire Research Group - ECPv6.15.20//NONSGML v1.0//EN
CALSCALE:GREGORIAN
METHOD:PUBLISH
X-ORIGINAL-URL:https://aspireresearchgroup.com
X-WR-CALDESC:Events for Aspire Research Group
REFRESH-INTERVAL;VALUE=DURATION:PT1H
X-Robots-Tag:noindex
X-PUBLISHED-TTL:PT1H
BEGIN:VTIMEZONE
TZID:America/New_York
BEGIN:DAYLIGHT
TZOFFSETFROM:-0500
TZOFFSETTO:-0400
TZNAME:EDT
DTSTART:20230312T070000
END:DAYLIGHT
BEGIN:STANDARD
TZOFFSETFROM:-0400
TZOFFSETTO:-0500
TZNAME:EST
DTSTART:20231105T060000
END:STANDARD
BEGIN:DAYLIGHT
TZOFFSETFROM:-0500
TZOFFSETTO:-0400
TZNAME:EDT
DTSTART:20240310T070000
END:DAYLIGHT
BEGIN:STANDARD
TZOFFSETFROM:-0400
TZOFFSETTO:-0500
TZNAME:EST
DTSTART:20241103T060000
END:STANDARD
BEGIN:DAYLIGHT
TZOFFSETFROM:-0500
TZOFFSETTO:-0400
TZNAME:EDT
DTSTART:20250309T070000
END:DAYLIGHT
BEGIN:STANDARD
TZOFFSETFROM:-0400
TZOFFSETTO:-0500
TZNAME:EST
DTSTART:20251102T060000
END:STANDARD
BEGIN:DAYLIGHT
TZOFFSETFROM:-0500
TZOFFSETTO:-0400
TZNAME:EDT
DTSTART:20260308T070000
END:DAYLIGHT
BEGIN:STANDARD
TZOFFSETFROM:-0400
TZOFFSETTO:-0500
TZNAME:EST
DTSTART:20261101T060000
END:STANDARD
BEGIN:DAYLIGHT
TZOFFSETFROM:-0500
TZOFFSETTO:-0400
TZNAME:EDT
DTSTART:20270314T070000
END:DAYLIGHT
BEGIN:STANDARD
TZOFFSETFROM:-0400
TZOFFSETTO:-0500
TZNAME:EST
DTSTART:20271107T060000
END:STANDARD
END:VTIMEZONE
BEGIN:VEVENT
DTSTART;TZID=America/New_York:20260211T130000
DTEND;TZID=America/New_York:20260211T140000
DTSTAMP:20260424T084254
CREATED:20251212T213355Z
LAST-MODIFIED:20251212T213355Z
UID:4313-1770814800-1770818400@aspireresearchgroup.com
SUMMARY:The Prospect Research Live Challenge: Race\, Vote\, and Win Better Prospects with AI
DESCRIPTION:Are you bogged down with researching new prospects for assignment? Wish you could find creative\, new ways to identify prospects? Join Jen Filla and Will Schrepferman for an interactive prospect research challenge where YOU call the shots! We’ll race to uncover the clues to compelling new prospects\, then put key decisions to a live vote: Which criteria define a best prospect? Which family foundation is the perfect fit for our scenario?  \nWhat to expect:  \n\nReal-time voting - Help us choose the criteria and family foundation we’ll research live \n\n\nLive DonorAtlas demo - Watch Jen build an early-stage prospect profile in minutes on the prospect YOU select \n\n\nActive community chat - Share your tips\, tricks\, and questions as we go \n\n\nAI-powered takeaways - Get a summary of the webinar chat with audience insights delivered post-webinar \n\nWhether you’re drowning in prospect lists or struggling to find fresh angles\, this hands-on session offers practical strategies you can use immediately to work smarter\, not harder. Come ready to participate\, share your best research hacks\, and maybe pick up a few new ones!  \nRegister Now: https://caresearchers.starchapter.com/meetinginfo.php?id=63&ts=1763500273 \n$0.00 Member Registration \n$25.00 Non-Member Registration
URL:https://aspireresearchgroup.com/event/the-prospect-research-live-challenge-race-vote-and-win-better-prospects-with-ai/
LOCATION:Webinar
CATEGORIES:Jennifer Filla,Webinar
ATTACH;FMTTYPE=image/png:https://aspireresearchgroup.com/wp-content/uploads/2025/12/SP-Filla-CARA-20260211.png
END:VEVENT
BEGIN:VEVENT
DTSTART;TZID=America/New_York:20260115T120000
DTEND;TZID=America/New_York:20260115T130000
DTSTAMP:20260424T084254
CREATED:20251209T204451Z
LAST-MODIFIED:20251212T211415Z
UID:4291-1768478400-1768482000@aspireresearchgroup.com
SUMMARY:SEC Filings: Keeping it data current with or without AI
DESCRIPTION:Whether you are trying to present public company insider holdings in a profile or providing routine updates on top donors and trustees\, getting your prospect’s current equity holdings is not a simple matter. But it could be a lot simpler! \nJoin Jen Filla and Elise Lynch on the journey between the Proxy Statement and the Form 4\, using AI – or not using AI. They will present some common fundraising scenarios\, recommend how to present the information effectively\, and demonstrate how to navigate SEC filings. \nRegister Now: https://www.aprafl.org/events/sec-filings-keeping-it-data-current-with-or-without-ai  \n 
URL:https://aspireresearchgroup.com/event/sec-filings-keeping-it-data-current-with-or-without-ai/
CATEGORIES:Jennifer Filla,Webinar
ATTACH;FMTTYPE=image/png:https://aspireresearchgroup.com/wp-content/uploads/2025/12/Speaking-FB-QR.png
END:VEVENT
BEGIN:VEVENT
DTSTART;TZID=America/New_York:20260108T120000
DTEND;TZID=America/New_York:20260108T130000
DTSTAMP:20260424T084254
CREATED:20251205T140027Z
LAST-MODIFIED:20251209T213556Z
UID:4254-1767873600-1767877200@aspireresearchgroup.com
SUMMARY:Step Behind the Scenes in 2026: Your Guide to Prospect Research Success!
DESCRIPTION:Kick off 2026 with a fresh perspective!    \nWhether you’re new to the Prospect Research Institute or a long-time participant\, join Jen Filla for an exclusive backstage tour. Discover how memberships\, on-demand courses\, workshops\, group coaching\, and more come together for an exceptional learning experience!  \nThursday\, January 8\, 2026 \n12:00pm-1:00pm New York | 9am California | 6pm Switzerland | 10:30pm India \nFREE Webinar
URL:https://aspireresearchgroup.com/event/step-behind-the-scenes-in-2026-your-guide-to-prospect-research-success/
CATEGORIES:Prospect Research Institute,Webinar
ATTACH;FMTTYPE=image/jpeg:https://aspireresearchgroup.com/wp-content/uploads/2025/12/Backstage-Tour-Event-Image.jpg
END:VEVENT
BEGIN:VEVENT
DTSTART;TZID=America/New_York:20251119T110000
DTEND;TZID=America/New_York:20251119T120000
DTSTAMP:20260424T084254
CREATED:20251014T161519Z
LAST-MODIFIED:20251021T165125Z
UID:4223-1763550000-1763553600@aspireresearchgroup.com
SUMMARY:Unmasking Prospects: Live Research Showdown with Generative A.I.—Love It or Hate It!
DESCRIPTION:Are you ready to challenge your assumptions and expand your toolkit? \n\n\n\n\nIn this high-energy session\, you’ll witness real-time prospect research as our presenters put the brand-new DonorAtlas A.I. tool to the test—warts and wonders alike! \n\n\nCome for the research\, stay for the debate—leave with new strategies and a fresh perspective! \nWednesday\, November 19 at 11:00 am Eastern Time \n\n\n\n\nRegister FREE Here
URL:https://aspireresearchgroup.com/event/unmasking-prospects-live-research-showdown-with-generative-a-i-love-it-or-hate-it/
LOCATION:Webinar
CATEGORIES:Aspire Speaking Engagements,Jennifer Filla,Prospect Research Institute,Webinar
ATTACH;FMTTYPE=image/jpeg:https://aspireresearchgroup.com/wp-content/uploads/2025/10/Unmasking-Prospects-1.jpg
END:VEVENT
BEGIN:VEVENT
DTSTART;TZID=America/New_York:20251104T130000
DTEND;TZID=America/New_York:20251104T140000
DTSTAMP:20260424T084254
CREATED:20250702T185841Z
LAST-MODIFIED:20250702T185841Z
UID:4109-1762261200-1762264800@aspireresearchgroup.com
SUMMARY:Family Offices 101: What They Are and How They Manage Wealth
DESCRIPTION:As the ranks of the ultra-wealthy keep growing\, family offices are on the rise. Come and discover what a family office is\, how it affects philanthropy and gift capacity\, and why you should care.
URL:https://aspireresearchgroup.com/event/family-offices-101-what-they-are-and-how-they-manage-wealth/
LOCATION:Webinar
CATEGORIES:Aspire Speaking Engagements,Jennifer Filla,Webinar
ATTACH;FMTTYPE=image/png:https://aspireresearchgroup.com/wp-content/uploads/2025/07/SP-Filla-APRA-20251104-1.png
END:VEVENT
BEGIN:VEVENT
DTSTART;TZID=America/New_York:20251021T100000
DTEND;TZID=America/New_York:20251021T170000
DTSTAMP:20260424T084254
CREATED:20251014T160236Z
LAST-MODIFIED:20251014T160236Z
UID:4216-1761040800-1761066000@aspireresearchgroup.com
SUMMARY:Hiring Your First Major Gift Officer? Leverage Prospect Research!
DESCRIPTION:Jennifer Filla joins the Nonprofit Impact Summits: Gather for Growth where she will lead a powerful session titled “Hiring Your First Major Gift Officer? Leverage Prospect Research!” In this session\, you’ll learn to discover how to leverage your database manager and proven prospect research techniques to kick start your new gift officer’s first portfolio. \nWith 70+ dynamic speakers across fundraising\, marketing\, programs\, and leadership\, this summit is your go-to resource for growth and innovation. \n🗓️ 21 October 2025\n🕐 2:30PM ET
URL:https://aspireresearchgroup.com/event/hiring-your-first-major-gift-officer-leverage-prospect-research/
LOCATION:Webinar
CATEGORIES:Aspire Speaking Engagements,Jennifer Filla,Webinar
ATTACH;FMTTYPE=image/png:https://aspireresearchgroup.com/wp-content/uploads/2025/10/SP-FIlla-NonProfit-20251021.png
END:VEVENT
BEGIN:VEVENT
DTSTART;TZID=America/New_York:20250320T120000
DTEND;TZID=America/New_York:20250320T130000
DTSTAMP:20260424T084254
CREATED:20250306T182159Z
LAST-MODIFIED:20250429T153657Z
UID:3778-1742472000-1742475600@aspireresearchgroup.com
SUMMARY:Researching Insiders During Economic Volatility
DESCRIPTION:When stock market values are jumping up and down like a toddler with a tantrum\, should you be taking a different approach with prospect research? Probably! Join Jen Filla for some top tips on presenting stock information in a profile that helps prepare development officers to cultivate and solicit public company insider prospects when stock prices are volatile. \n 
URL:https://aspireresearchgroup.com/event/researching-insiders-during-economic-volatility/
LOCATION:Webinar
CATEGORIES:Aspire Speaking Engagements,Jennifer Filla,Webinar
ATTACH;FMTTYPE=image/jpeg:https://aspireresearchgroup.com/wp-content/uploads/2025/03/SP-Filla-Insightful-20250320.jpg
END:VEVENT
BEGIN:VEVENT
DTSTART;TZID=America/New_York:20250116T120000
DTEND;TZID=America/New_York:20250116T130000
DTSTAMP:20260424T084254
CREATED:20241205T113510Z
LAST-MODIFIED:20241205T113510Z
UID:3616-1737028800-1737032400@aspireresearchgroup.com
SUMMARY:Backstage Tour of the Institute
DESCRIPTION:Whether you are new to the Prospect Research Institute or have participated for years\, join Jen Filla for a backstage tour at the Institute. Jen will cover the 3 top topics for 2025\, the 4 learning pathways\, and new ways to navigate and communicate.
URL:https://aspireresearchgroup.com/event/backstage-tour-of-the-institute/
LOCATION:Webinar
CATEGORIES:Prospect Research Institute,Webinar
ATTACH;FMTTYPE=image/jpeg:https://aspireresearchgroup.com/wp-content/uploads/2024/12/Backstage-Tour-Event-Image.jpg
END:VEVENT
BEGIN:VEVENT
DTSTART;TZID=America/New_York:20240717T130000
DTEND;TZID=America/New_York:20240717T140000
DTSTAMP:20260424T084254
CREATED:20240703T191922Z
LAST-MODIFIED:20240717T141135Z
UID:3162-1721221200-1721224800@aspireresearchgroup.com
SUMMARY:Prospect Research with Jen Filla hosted by KALEIDOSCOPE
DESCRIPTION:Learn how to turbocharge your prospect profiles by consolidating critical wealth and relationship data from various SEC filings with validation links. Jennifer Filla joins the panel in session II of this three part summer series hosted by KALEIDOSCOPE. Registration is FREE.
URL:https://aspireresearchgroup.com/event/kaleidoscope-prospectresearch/
CATEGORIES:Jennifer Filla,Webinar
ATTACH;FMTTYPE=image/png:https://aspireresearchgroup.com/wp-content/uploads/2024/07/Guest-Speaker-Jennifer-Filla-President-Prospect-Research-Institute-2.png
END:VEVENT
BEGIN:VEVENT
DTSTART;TZID=America/New_York:20240613T150000
DTEND;TZID=America/New_York:20240613T160000
DTSTAMP:20260424T084254
CREATED:20240530T191855Z
LAST-MODIFIED:20240530T191855Z
UID:2999-1718290800-1718294400@aspireresearchgroup.com
SUMMARY:Big Deal: How to Grow Major Gifts for Your Nonprofit
DESCRIPTION:It may be the biggest hurdle to fundraising…aside from the actual ask itself. We all know we need to find major gift prospects for our organizations but the question is how? That’s what this panel will discuss with fundraising experts on growing your major gift program. \n During this panel\, you will hear about:  \n\nStrategies for identifying and qualifying major gift prospects \nTips for building strong relationships with major donors \nTrends and innovations in major gift fundraising and stewardship \nCollaborating with board members and volunteers for major gift success \nOvercoming common challenges in major gift fundraising 
URL:https://aspireresearchgroup.com/event/big-deal-how-to-grow-major-gifts-for-your-nonprofit/
LOCATION:Webinar
CATEGORIES:Elisa Shoenberger,Webinar
ATTACH;FMTTYPE=image/jpeg:https://aspireresearchgroup.com/wp-content/uploads/2024/05/PanelJune9_Newsletter_header-1.jpg
END:VEVENT
BEGIN:VEVENT
DTSTART;TZID=America/New_York:20240528T151500
DTEND;TZID=America/New_York:20240528T164500
DTSTAMP:20260424T084254
CREATED:20240320T155327Z
LAST-MODIFIED:20240506T183218Z
UID:2883-1716909300-1716914700@aspireresearchgroup.com
SUMMARY:Prospecting for Campaigns: Exploring Individual Giving Potential
DESCRIPTION:So\, you’re planning a capital campaign. How do you figure out which individuals in your donor base might support your campaign? Join Jen Filla for a walk through on how to evaluate your donor base for giving potential and identify the names of individual donors that can provide the support you need. She will discuss approaches for organizations with few fundraising staff to those with their own prospect research talent. \nClick below to block your calendar
URL:https://aspireresearchgroup.com/event/prospecting-for-campaigns-exploring-individual-giving-potential/
LOCATION:Webinar
CATEGORIES:Webinar
ATTACH;FMTTYPE=image/png:https://aspireresearchgroup.com/wp-content/uploads/2024/03/DonorSearch-Webinar.png
END:VEVENT
END:VCALENDAR