BEGIN:VCALENDAR
VERSION:2.0
PRODID:-//Aspire Research Group - ECPv6.15.20//NONSGML v1.0//EN
CALSCALE:GREGORIAN
METHOD:PUBLISH
X-WR-CALNAME:Aspire Research Group
X-ORIGINAL-URL:https://aspireresearchgroup.com
X-WR-CALDESC:Events for Aspire Research Group
REFRESH-INTERVAL;VALUE=DURATION:PT1H
X-Robots-Tag:noindex
X-PUBLISHED-TTL:PT1H
BEGIN:VTIMEZONE
TZID:America/New_York
BEGIN:DAYLIGHT
TZOFFSETFROM:-0500
TZOFFSETTO:-0400
TZNAME:EDT
DTSTART:20230312T070000
END:DAYLIGHT
BEGIN:STANDARD
TZOFFSETFROM:-0400
TZOFFSETTO:-0500
TZNAME:EST
DTSTART:20231105T060000
END:STANDARD
BEGIN:DAYLIGHT
TZOFFSETFROM:-0500
TZOFFSETTO:-0400
TZNAME:EDT
DTSTART:20240310T070000
END:DAYLIGHT
BEGIN:STANDARD
TZOFFSETFROM:-0400
TZOFFSETTO:-0500
TZNAME:EST
DTSTART:20241103T060000
END:STANDARD
BEGIN:DAYLIGHT
TZOFFSETFROM:-0500
TZOFFSETTO:-0400
TZNAME:EDT
DTSTART:20250309T070000
END:DAYLIGHT
BEGIN:STANDARD
TZOFFSETFROM:-0400
TZOFFSETTO:-0500
TZNAME:EST
DTSTART:20251102T060000
END:STANDARD
END:VTIMEZONE
BEGIN:VEVENT
DTSTART;TZID=America/New_York:20240215T120000
DTEND;TZID=America/New_York:20240215T130000
DTSTAMP:20260422T135519
CREATED:20231223T015118Z
LAST-MODIFIED:20231223T015118Z
UID:2750-1707998400-1708002000@aspireresearchgroup.com
SUMMARY:Group Coaching Call
DESCRIPTION:Monthly group coaching calls are open to Research Asset Members and those who have purchased and are currently enrolled in a course. \nCoaching calls are a safe\, judge-free space where you can talk freely\, ask questions\, and receive mentoring without being recorded. \nWe send reminder emails with the Zoom link access the day before and an hour before the call. However\, we encourage you to block out the times and dates on your calendar to ensure you can attend. \nAccess to these coaching calls does not apply to individual Master Class or Workshop purchases.
URL:https://aspireresearchgroup.com/event/group-coaching-call/
LOCATION:Zoom
CATEGORIES:Group Coaching Call
ATTACH;FMTTYPE=image/png:https://aspireresearchgroup.com/wp-content/uploads/2023/12/Group_Coaching_Calls.png
END:VEVENT
BEGIN:VEVENT
DTSTART;TZID=America/New_York:20240208T110000
DTEND;TZID=America/New_York:20240208T120000
DTSTAMP:20260422T135519
CREATED:20231220T175021Z
LAST-MODIFIED:20231221T005806Z
UID:2710-1707390000-1707393600@aspireresearchgroup.com
SUMMARY:Practicing Profile Insights
DESCRIPTION:Prospect research has evolved from “hunting and gathering” to synthesizing information. We provide something machines cannot – intuitive insights into our donor prospects. Join us for an introduction to a framework for developing insights and practice in small groups.
URL:https://aspireresearchgroup.com/event/practicing-profile-insights/
LOCATION:Zoom
CATEGORIES:Prospect Research Institute,Workshop
ATTACH;FMTTYPE=image/jpeg:https://aspireresearchgroup.com/wp-content/uploads/2023/12/2024-Workshop-_-Profile-Insights-1-1.jpg
END:VEVENT
END:VCALENDAR